Workbook
Name должность: раскрыв.списки!$B$2:$B$12
Name специальность: раскрыв.списки!$B$16:$B$33
Name ученая_степень_звание: раскрыв.списки!$B$38:$B$43

Sheet ИНСТРУКЦИЯ ПО ЗАПОЛНЕНИЮ
A2: Название кафедры | B2: заполнить на листе Лечебное дело - название кафедры продублируется на все последующие листы | N2: Строки нельзя удалять, копировать, добавлять
N3: Листы книги нельзя удалять, копировать, добавлять
A4: Специальность (направление подготовки) | B4: заполнено, ячейка заблокирована от редактирования, название соответсвует названию листа | N4: Листы книги масштабируются (масштаб можно менять для удобства заполнения и отображения)
A6: Учебный год | B6: можно редактировать на листе Лечебное дело - изменения продублируюются на все последующие листы
A8: Заполнение таблицы
A10: ФИО | B10: ячейка открыта для редактирования, заполняется в свободной форме, при копировании из других источников использовать команду вставить только значения (правая кнопка мыши) чтобы избежать образования ссылок
A12: Должность | B12: выбрать из раскрывающегося списка
A14: Уч.степень, уч.звание | B14: выбрать из раскрывающегося списка
A16: Преподаваемые дисциплины | B16: ячейка открыта для редактирования, при копировании из других источников использовать команду вставить только значения (правая кнопка мыши) чтобы избежать образования ссылок
A18: Практика | B18: Практика (учебная или производственная, а так же НИР указывается после дисциплин!!!Указывать полное название практики!!!
A20: Ставка | B20: ячейки открыты для редактирования
A21: Планируемая годовая нагрузка,всего часов
A22: осенний семестр
A23: весенний семестр
A25: итого за осенний семестр | B25: ячейки заблокированы для редактирования
A26: итого за весенний семестр
A27: итого за год
A28: %

Sheet лечебное дело
C2: Кафедра
D3: 31.05.01 Лечебное дело
D4: (специальность/направление подготовки)
D6: 2025-2026 учебный год
A8: № п/п | B8: Ф.И.О. | C8: Должность | D8: Уч.степень, уч.звание | E8: Ставка | F8: Преподаваемые дисциплины | G8: Планируемая годовая нагрузка, всего часов | H8: осенний семестр | M8: весенний семестр | T8: итого за осенний семестр | U8: итого за весенний семестр | V8: итого за год | W8: %
H9: сентябрь | I9: октябрь | J9: ноябрь | K9: декабрь | L9: январь | M9: февраль | N9: март | O9: апрель | P9: май | Q9: июнь | R9: июль | S9: август
A10: 1 | W10: =V10/G10 -> #DIV/0!
A11: 2 | W11: =V11/G11 -> #DIV/0!
A12: 3 | W12: =V12/G12 -> #DIV/0!
A13: 4 | W13: =V13/G13 -> #DIV/0!
A14: 5 | W14: =V14/G14 -> #DIV/0!
A15: 6 | W15: =V15/G15 -> #DIV/0!
A16: 7 | W16: =V16/G16 -> #DIV/0!
A17: 8 | W17: =V17/G17 -> #DIV/0!
A18: 9 | W18: =V18/G18 -> #DIV/0!
A19: 10 | T19: =SUM(H19:L19) -> 0 | U19: =SUM(M19:S19) -> 0 | V19: =SUM(T19:U19) -> 0 | W19: =V19/G19 -> #DIV/0!
A20: 11 | T20: =SUM(H20:L20) -> 0 | U20: =SUM(M20:S20) -> 0 | V20: =SUM(T20:U20) -> 0 | W20: =V20/G20 -> #DIV/0!
A21: 12 | T21: =SUM(H21:L21) -> 0 | U21: =SUM(M21:S21) -> 0 | V21: =SUM(T21:U21) -> 0 | W21: =V21/G21 -> #DIV/0!
A22: 13 | T22: =SUM(H22:L22) -> 0 | U22: =SUM(M22:S22) -> 0 | V22: =SUM(T22:U22) -> 0 | W22: =V22/G22 -> #DIV/0!
A23: 14 | T23: =SUM(H23:L23) -> 0 | U23: =SUM(M23:S23) -> 0 | V23: =SUM(T23:U23) -> 0 | W23: =V23/G23 -> #DIV/0!
A24: 15 | T24: =SUM(H24:L24) -> 0 | U24: =SUM(M24:S24) -> 0 | V24: =SUM(T24:U24) -> 0 | W24: =V24/G24 -> #DIV/0!
A25: 16 | T25: =SUM(H25:L25) -> 0 | U25: =SUM(M25:S25) -> 0 | V25: =SUM(T25:U25) -> 0 | W25: =V25/G25 -> #DIV/0!
A26: 17 | T26: =SUM(H26:L26) -> 0 | U26: =SUM(M26:S26) -> 0 | V26: =SUM(T26:U26) -> 0 | W26: =V26/G26 -> #DIV/0!
A27: 18 | T27: =SUM(H27:L27) -> 0 | U27: =SUM(M27:S27) -> 0 | V27: =SUM(T27:U27) -> 0 | W27: =V27/G27 -> #DIV/0!
A28: 19 | T28: =SUM(H28:L28) -> 0 | U28: =SUM(M28:S28) -> 0 | V28: =SUM(T28:U28) -> 0 | W28: =V28/G28 -> #DIV/0!
A29: 20 | T29: =SUM(H29:L29) -> 0 | U29: =SUM(M29:S29) -> 0 | V29: =SUM(T29:U29) -> 0 | W29: =V29/G29 -> #DIV/0!
A30: 21 | T30: =SUM(H30:L30) -> 0 | U30: =SUM(M30:S30) -> 0 | V30: =SUM(T30:U30) -> 0 | W30: =V30/G30 -> #DIV/0!
... A37: 28 | T37: =SUM(H37:L37) -> 0 | U37: =SUM(M37:S37) -> 0 | V37: =SUM(T37:U37) -> 0 | W37: =V37/G37 -> #DIV/0!
A38: 29 | B38: Это пример!!!!!Тарасенко И.В. | C38: профессор | D38: доктор наук, доцент | E38: 1.5 | F38: Практика диагностического профиля"Общеклиническая диагностическая практика" | G38: 1241 | R38: 240 | T38: =SUM(H38:L38) -> 0 | U38: =SUM(M38:S38) -> 240 | V38: =SUM(T38:U38) -> 240 | W38: =V38/G38 -> 0.19339243
A39: 30 | T39: =SUM(H39:L39) -> 0 | U39: =SUM(M39:S39) -> 0 | V39: =SUM(T39:U39) -> 0 | W39: =V39/G39 -> #DIV/0!
A40: 31 | T40: =SUM(H40:L40) -> 0 | U40: =SUM(M40:S40) -> 0 | V40: =SUM(T40:U40) -> 0 | W40: =V40/G40 -> #DIV/0!
A41: 32 | T41: =SUM(H41:L41) -> 0 | U41: =SUM(M41:S41) -> 0 | V41: =SUM(T41:U41) -> 0 | W41: =V41/G41 -> #DIV/0!
A42: 33 | T42: =SUM(H42:L42) -> 0 | U42: =SUM(M42:S42) -> 0 | V42: =SUM(T42:U42) -> 0 | W42: =V42/G42 -> #DIV/0!
A43: 34 | T43: =SUM(H43:L43) -> 0 | U43: =SUM(M43:S43) -> 0 | V43: =SUM(T43:U43) -> 0 | W43: =V43/G43 -> #DIV/0!
A44: 35 | T44: =SUM(H44:L44) -> 0 | U44: =SUM(M44:S44) -> 0 | V44: =SUM(T44:U44) -> 0 | W44: =V44/G44 -> #DIV/0!
A45: 36 | T45: =SUM(H45:L45) -> 0 | U45: =SUM(M45:S45) -> 0 | V45: =SUM(T45:U45) -> 0 | W45: =V45/G45 -> #DIV/0!
A46: 37 | T46: =SUM(H46:L46) -> 0 | U46: =SUM(M46:S46) -> 0 | V46: =SUM(T46:U46) -> 0 | W46: =V46/G46 -> #DIV/0!
A47: 38 | T47: =SUM(H47:L47) -> 0 | U47: =SUM(M47:S47) -> 0 | V47: =SUM(T47:U47) -> 0 | W47: =V47/G47 -> #DIV/0!
A48: 39 | T48: =SUM(H48:L48) -> 0 | U48: =SUM(M48:S48) -> 0 | V48: =SUM(T48:U48) -> 0 | W48: =V48/G48 -> #DIV/0!
A49: 40 | T49: =SUM(H49:L49) -> 0 | U49: =SUM(M49:S49) -> 0 | V49: =SUM(T49:U49) -> 0 | W49: =V49/G49 -> #DIV/0!
A50: 41 | T50: =SUM(H50:L50) -> 0 | U50: =SUM(M50:S50) -> 0 | V50: =SUM(T50:U50) -> 0 | W50: =V50/G50 -> #DIV/0!
... A59: 50 | T59: =SUM(H59:L59) -> 0 | U59: =SUM(M59:S59) -> 0 | V59: =SUM(T59:U59) -> 0 | W59: =V59/G59 -> #DIV/0!

Sheet педиатрия
C2: Кафедра | D2: ='лечебное дело'!D2:R2 -> 0
D3: 31.05.02 Педиатрия
D4: (специальность/направление подготовки)
D6: ='лечебное дело'!D6:K6 -> 2025-2026 учебный год
A8: № п/п | B8: Ф.И.О. | C8: Должность | D8: Уч.степень, уч.звание | E8: Ставка | F8: Преподаваемые дисциплины | G8: Планируемая годовая нагрузка, всего часов | H8: осенний семестр | M8: весенний семестр | T8: итого за осенний семестр | U8: итого за весенний семестр | V8: итого за год | W8: %
H9: сентябрь | I9: октябрь | J9: ноябрь | K9: декабрь | L9: январь | M9: февраль | N9: март | O9: апрель | P9: май | Q9: июнь | R9: июль | S9: август
A10: 1 | W10: =V10/G10 -> #DIV/0!
A11: 2 | W11: =V11/G11 -> #DIV/0!
A12: 3 | W12: =V12/G12 -> #DIV/0!
A13: 4 | W13: =V13/G13 -> #DIV/0!
A14: 5 | W14: =V14/G14 -> #DIV/0!
A15: 6 | W15: =V15/G15 -> #DIV/0!
A16: 7 | W16: =V16/G16 -> #DIV/0!
A17: 8 | W17: =V17/G17 -> #DIV/0!
A18: 9 | T18: =SUM(H18:L18) -> 0 | U18: =SUM(M18:S18) -> 0 | V18: =SUM(T18:U18) -> 0 | W18: =V18/G18 -> #DIV/0!
A19: 10 | T19: =SUM(H19:L19) -> 0 | U19: =SUM(M19:S19) -> 0 | V19: =SUM(T19:U19) -> 0 | W19: =V19/G19 -> #DIV/0!
A20: 11 | T20: =SUM(H20:L20) -> 0 | U20: =SUM(M20:S20) -> 0 | V20: =SUM(T20:U20) -> 0 | W20: =V20/G20 -> #DIV/0!
A21: 12 | T21: =SUM(H21:L21) -> 0 | U21: =SUM(M21:S21) -> 0 | V21: =SUM(T21:U21) -> 0 | W21: =V21/G21 -> #DIV/0!
A22: 13 | T22: =SUM(H22:L22) -> 0 | U22: =SUM(M22:S22) -> 0 | V22: =SUM(T22:U22) -> 0 | W22: =V22/G22 -> #DIV/0!
A23: 14 | T23: =SUM(H23:L23) -> 0 | U23: =SUM(M23:S23) -> 0 | V23: =SUM(T23:U23) -> 0 | W23: =V23/G23 -> #DIV/0!
A24: 15 | T24: =SUM(H24:L24) -> 0 | U24: =SUM(M24:S24) -> 0 | V24: =SUM(T24:U24) -> 0 | W24: =V24/G24 -> #DIV/0!
A25: 16 | T25: =SUM(H25:L25) -> 0 | U25: =SUM(M25:S25) -> 0 | V25: =SUM(T25:U25) -> 0 | W25: =V25/G25 -> #DIV/0!
A26: 17 | T26: =SUM(H26:L26) -> 0 | U26: =SUM(M26:S26) -> 0 | V26: =SUM(T26:U26) -> 0 | W26: =V26/G26 -> #DIV/0!
A27: 18 | T27: =SUM(H27:L27) -> 0 | U27: =SUM(M27:S27) -> 0 | V27: =SUM(T27:U27) -> 0 | W27: =V27/G27 -> #DIV/0!
A28: 19 | T28: =SUM(H28:L28) -> 0 | U28: =SUM(M28:S28) -> 0 | V28: =SUM(T28:U28) -> 0 | W28: =V28/G28 -> #DIV/0!
A29: 20 | T29: =SUM(H29:L29) -> 0 | U29: =SUM(M29:S29) -> 0 | V29: =SUM(T29:U29) -> 0 | W29: =V29/G29 -> #DIV/0!
... A59: 50 | T59: =SUM(H59:L59) -> 0 | U59: =SUM(M59:S59) -> 0 | V59: =SUM(T59:U59) -> 0 | W59: =V59/G59 -> #DIV/0!

Sheet стоматология
C2: Кафедра | D2: ='лечебное дело'!D2:R2 -> 0
D3: 31.05.03 Стоматология
D4: (специальность/направление подготовки)
D6: ='лечебное дело'!D6:K6 -> 2025-2026 учебный год
A8: № п/п | B8: Ф.И.О. | C8: Должность | D8: Уч.степень, уч.звание | E8: Ставка | F8: Преподаваемые дисциплины | G8: Планируемая годовая нагрузка, всего часов | H8: осенний семестр | M8: весенний семестр | T8: итого за осенний семестр | U8: итого за весенний семестр | V8: итого за год | W8: %
H9: сентябрь | I9: октябрь | J9: ноябрь | K9: декабрь | L9: январь | M9: февраль | N9: март | O9: апрель | P9: май | Q9: июнь | R9: июль | S9: август
A10: 1 | W10: =V10/G10 -> #DIV/0!
A11: 2 | W11: =V11/G11 -> #DIV/0!
A12: 3 | W12: =V12/G12 -> #DIV/0!
A13: 4 | W13: =V13/G13 -> #DIV/0!
A14: 5 | W14: =V14/G14 -> #DIV/0!
A15: 6 | W15: =V15/G15 -> #DIV/0!
A16: 7 | W16: =V16/G16 -> #DIV/0!
A17: 8 | W17: =V17/G17 -> #DIV/0!
A18: 9 | T18: =SUM(H18:L18) -> 0 | U18: =SUM(M18:S18) -> 0 | V18: =SUM(T18:U18) -> 0 | W18: =V18/G18 -> #DIV/0!
A19: 10 | T19: =SUM(H19:L19) -> 0 | U19: =SUM(M19:S19) -> 0 | V19: =SUM(T19:U19) -> 0 | W19: =V19/G19 -> #DIV/0!
A20: 11 | T20: =SUM(H20:L20) -> 0 | U20: =SUM(M20:S20) -> 0 | V20: =SUM(T20:U20) -> 0 | W20: =V20/G20 -> #DIV/0!
A21: 12 | T21: =SUM(H21:L21) -> 0 | U21: =SUM(M21:S21) -> 0 | V21: =SUM(T21:U21) -> 0 | W21: =V21/G21 -> #DIV/0!
A22: 13 | T22: =SUM(H22:L22) -> 0 | U22: =SUM(M22:S22) -> 0 | V22: =SUM(T22:U22) -> 0 | W22: =V22/G22 -> #DIV/0!
A23: 14 | T23: =SUM(H23:L23) -> 0 | U23: =SUM(M23:S23) -> 0 | V23: =SUM(T23:U23) -> 0 | W23: =V23/G23 -> #DIV/0!
A24: 15 | T24: =SUM(H24:L24) -> 0 | U24: =SUM(M24:S24) -> 0 | V24: =SUM(T24:U24) -> 0 | W24: =V24/G24 -> #DIV/0!
A25: 16 | T25: =SUM(H25:L25) -> 0 | U25: =SUM(M25:S25) -> 0 | V25: =SUM(T25:U25) -> 0 | W25: =V25/G25 -> #DIV/0!
A26: 17 | T26: =SUM(H26:L26) -> 0 | U26: =SUM(M26:S26) -> 0 | V26: =SUM(T26:U26) -> 0 | W26: =V26/G26 -> #DIV/0!
A27: 18 | T27: =SUM(H27:L27) -> 0 | U27: =SUM(M27:S27) -> 0 | V27: =SUM(T27:U27) -> 0 | W27: =V27/G27 -> #DIV/0!
A28: 19 | T28: =SUM(H28:L28) -> 0 | U28: =SUM(M28:S28) -> 0 | V28: =SUM(T28:U28) -> 0 | W28: =V28/G28 -> #DIV/0!
A29: 20 | T29: =SUM(H29:L29) -> 0 | U29: =SUM(M29:S29) -> 0 | V29: =SUM(T29:U29) -> 0 | W29: =V29/G29 -> #DIV/0!
... A59: 50 | T59: =SUM(H59:L59) -> 0 | U59: =SUM(M59:S59) -> 0 | V59: =SUM(T59:U59) -> 0 | W59: =V59/G59 -> #DIV/0!

Sheet мед-проф
C2: Кафедра | D2: ='лечебное дело'!D2:R2 -> 0
D3: 32.05.01 Медико-профилактическое дело
D4: (специальность/направление подготовки)
D6: ='лечебное дело'!D6:K6 -> 2025-2026 учебный год
A8: № п/п | B8: Ф.И.О. | C8: Должность | D8: Уч.степень, уч.звание | E8: Ставка | F8: Преподаваемые дисциплины | G8: Планируемая годовая нагрузка, всего часов | H8: осенний семестр | M8: весенний семестр | T8: итого за осенний семестр | U8: итого за весенний семестр | V8: итого за год | W8: %
H9: сентябрь | I9: октябрь | J9: ноябрь | K9: декабрь | L9: январь | M9: февраль | N9: март | O9: апрель | P9: май | Q9: июнь | R9: июль | S9: август
A10: 1 | W10: =V10/G10 -> #DIV/0!
A11: 2 | W11: =V11/G11 -> #DIV/0!
A12: 3 | W12: =V12/G12 -> #DIV/0!
A13: 4 | W13: =V13/G13 -> #DIV/0!
A14: 5 | W14: =V14/G14 -> #DIV/0!
A15: 6 | W15: =V15/G15 -> #DIV/0!
A16: 7 | T16: =SUM(H16:L16) -> 0 | U16: =SUM(M16:S16) -> 0 | V16: =SUM(T16:U16) -> 0 | W16: =V16/G16 -> #DIV/0!
A17: 8 | T17: =SUM(H17:L17) -> 0 | U17: =SUM(M17:S17) -> 0 | V17: =SUM(T17:U17) -> 0 | W17: =V17/G17 -> #DIV/0!
A18: 9 | T18: =SUM(H18:L18) -> 0 | U18: =SUM(M18:S18) -> 0 | V18: =SUM(T18:U18) -> 0 | W18: =V18/G18 -> #DIV/0!
A19: 10 | T19: =SUM(H19:L19) -> 0 | U19: =SUM(M19:S19) -> 0 | V19: =SUM(T19:U19) -> 0 | W19: =V19/G19 -> #DIV/0!
A20: 11 | T20: =SUM(H20:L20) -> 0 | U20: =SUM(M20:S20) -> 0 | V20: =SUM(T20:U20) -> 0 | W20: =V20/G20 -> #DIV/0!
A21: 12 | T21: =SUM(H21:L21) -> 0 | U21: =SUM(M21:S21) -> 0 | V21: =SUM(T21:U21) -> 0 | W21: =V21/G21 -> #DIV/0!
A22: 13 | T22: =SUM(H22:L22) -> 0 | U22: =SUM(M22:S22) -> 0 | V22: =SUM(T22:U22) -> 0 | W22: =V22/G22 -> #DIV/0!
A23: 14 | T23: =SUM(H23:L23) -> 0 | U23: =SUM(M23:S23) -> 0 | V23: =SUM(T23:U23) -> 0 | W23: =V23/G23 -> #DIV/0!
A24: 15 | T24: =SUM(H24:L24) -> 0 | U24: =SUM(M24:S24) -> 0 | V24: =SUM(T24:U24) -> 0 | W24: =V24/G24 -> #DIV/0!
A25: 16 | T25: =SUM(H25:L25) -> 0 | U25: =SUM(M25:S25) -> 0 | V25: =SUM(T25:U25) -> 0 | W25: =V25/G25 -> #DIV/0!
A26: 17 | T26: =SUM(H26:L26) -> 0 | U26: =SUM(M26:S26) -> 0 | V26: =SUM(T26:U26) -> 0 | W26: =V26/G26 -> #DIV/0!
A27: 18 | T27: =SUM(H27:L27) -> 0 | U27: =SUM(M27:S27) -> 0 | V27: =SUM(T27:U27) -> 0 | W27: =V27/G27 -> #DIV/0!
... A59: 50 | T59: =SUM(H59:L59) -> 0 | U59: =SUM(M59:S59) -> 0 | V59: =SUM(T59:U59) -> 0 | W59: =V59/G59 -> #DIV/0!

Sheet фармация
C2: Кафедра | D2: ='лечебное дело'!D2:R2 -> 0
D3: 33.05.01 Фармация
D4: (специальность/направление подготовки)
D6: ='лечебное дело'!D6:K6 -> 2025-2026 учебный год
A8: № п/п | B8: Ф.И.О. | C8: Должность | D8: Уч.степень, уч.звание | E8: Ставка | F8: Преподаваемые дисциплины | G8: Планируемая годовая нагрузка, всего часов | H8: осенний семестр | M8: весенний семестр | T8: итого за осенний семестр | U8: итого за весенний семестр | V8: итого за год | W8: %
H9: сентябрь | I9: октябрь | J9: ноябрь | K9: декабрь | L9: январь | M9: февраль | N9: март | O9: апрель | P9: май | Q9: июнь | R9: июль | S9: август
A10: 1 | W10: =V10/G10 -> #DIV/0!
A11: 2 | W11: =V11/G11 -> #DIV/0!
A12: 3 | W12: =V12/G12 -> #DIV/0!
A13: 4 | T13: =SUM(H13:L13) -> 0 | U13: =SUM(M13:S13) -> 0 | V13: =SUM(T13:U13) -> 0 | W13: =V13/G13 -> #DIV/0!
A14: 5 | T14: =SUM(H14:L14) -> 0 | U14: =SUM(M14:S14) -> 0 | V14: =SUM(T14:U14) -> 0 | W14: =V14/G14 -> #DIV/0!
A15: 6 | T15: =SUM(H15:L15) -> 0 | U15: =SUM(M15:S15) -> 0 | V15: =SUM(T15:U15) -> 0 | W15: =V15/G15 -> #DIV/0!
A16: 7 | T16: =SUM(H16:L16) -> 0 | U16: =SUM(M16:S16) -> 0 | V16: =SUM(T16:U16) -> 0 | W16: =V16/G16 -> #DIV/0!
A17: 8 | T17: =SUM(H17:L17) -> 0 | U17: =SUM(M17:S17) -> 0 | V17: =SUM(T17:U17) -> 0 | W17: =V17/G17 -> #DIV/0!
A18: 9 | T18: =SUM(H18:L18) -> 0 | U18: =SUM(M18:S18) -> 0 | V18: =SUM(T18:U18) -> 0 | W18: =V18/G18 -> #DIV/0!
A19: 10 | T19: =SUM(H19:L19) -> 0 | U19: =SUM(M19:S19) -> 0 | V19: =SUM(T19:U19) -> 0 | W19: =V19/G19 -> #DIV/0!
A20: 11 | T20: =SUM(H20:L20) -> 0 | U20: =SUM(M20:S20) -> 0 | V20: =SUM(T20:U20) -> 0 | W20: =V20/G20 -> #DIV/0!
A21: 12 | T21: =SUM(H21:L21) -> 0 | U21: =SUM(M21:S21) -> 0 | V21: =SUM(T21:U21) -> 0 | W21: =V21/G21 -> #DIV/0!
A22: 13 | T22: =SUM(H22:L22) -> 0 | U22: =SUM(M22:S22) -> 0 | V22: =SUM(T22:U22) -> 0 | W22: =V22/G22 -> #DIV/0!
A23: 14 | T23: =SUM(H23:L23) -> 0 | U23: =SUM(M23:S23) -> 0 | V23: =SUM(T23:U23) -> 0 | W23: =V23/G23 -> #DIV/0!
A24: 15 | T24: =SUM(H24:L24) -> 0 | U24: =SUM(M24:S24) -> 0 | V24: =SUM(T24:U24) -> 0 | W24: =V24/G24 -> #DIV/0!
... A59: 50 | T59: =SUM(H59:L59) -> 0 | U59: =SUM(M59:S59) -> 0 | V59: =SUM(T59:U59) -> 0 | W59: =V59/G59 -> #DIV/0!

Sheet биотехнология
C2: Кафедра | D2: ='лечебное дело'!D2:R2 -> 0
D3: 19.03.01 Биотехнология
D4: (специальность/направление подготовки)
D6: ='лечебное дело'!D6:K6 -> 2025-2026 учебный год
A8: № п/п | B8: Ф.И.О. | C8: Должность | D8: Уч.степень, уч.звание | E8: Ставка | F8: Преподаваемые дисциплины | G8: Планируемая годовая нагрузка, всего часов | H8: осенний семестр | M8: весенний семестр | T8: итого за осенний семестр | U8: итого за весенний семестр | V8: итого за год | W8: %
H9: сентябрь | I9: октябрь | J9: ноябрь | K9: декабрь | L9: январь | M9: февраль | N9: март | O9: апрель | P9: май | Q9: июнь | R9: июль | S9: август
A10: 1 | W10: =V10/G10 -> #DIV/0!
A11: 2 | T11: =SUM(H11:L11) -> 0 | U11: =SUM(M11:S11) -> 0 | V11: =SUM(T11:U11) -> 0 | W11: =V11/G11 -> #DIV/0!
A12: 3 | T12: =SUM(H12:L12) -> 0 | U12: =SUM(M12:S12) -> 0 | V12: =SUM(T12:U12) -> 0 | W12: =V12/G12 -> #DIV/0!
A13: 4 | T13: =SUM(H13:L13) -> 0 | U13: =SUM(M13:S13) -> 0 | V13: =SUM(T13:U13) -> 0 | W13: =V13/G13 -> #DIV/0!
A14: 5 | T14: =SUM(H14:L14) -> 0 | U14: =SUM(M14:S14) -> 0 | V14: =SUM(T14:U14) -> 0 | W14: =V14/G14 -> #DIV/0!
A15: 6 | T15: =SUM(H15:L15) -> 0 | U15: =SUM(M15:S15) -> 0 | V15: =SUM(T15:U15) -> 0 | W15: =V15/G15 -> #DIV/0!
A16: 7 | T16: =SUM(H16:L16) -> 0 | U16: =SUM(M16:S16) -> 0 | V16: =SUM(T16:U16) -> 0 | W16: =V16/G16 -> #DIV/0!
A17: 8 | T17: =SUM(H17:L17) -> 0 | U17: =SUM(M17:S17) -> 0 | V17: =SUM(T17:U17) -> 0 | W17: =V17/G17 -> #DIV/0!
A18: 9 | T18: =SUM(H18:L18) -> 0 | U18: =SUM(M18:S18) -> 0 | V18: =SUM(T18:U18) -> 0 | W18: =V18/G18 -> #DIV/0!
A19: 10 | T19: =SUM(H19:L19) -> 0 | U19: =SUM(M19:S19) -> 0 | V19: =SUM(T19:U19) -> 0 | W19: =V19/G19 -> #DIV/0!
A20: 11 | T20: =SUM(H20:L20) -> 0 | U20: =SUM(M20:S20) -> 0 | V20: =SUM(T20:U20) -> 0 | W20: =V20/G20 -> #DIV/0!
A21: 12 | T21: =SUM(H21:L21) -> 0 | U21: =SUM(M21:S21) -> 0 | V21: =SUM(T21:U21) -> 0 | W21: =V21/G21 -> #DIV/0!
A22: 13 | T22: =SUM(H22:L22) -> 0 | U22: =SUM(M22:S22) -> 0 | V22: =SUM(T22:U22) -> 0 | W22: =V22/G22 -> #DIV/0!
... A59: 50 | T59: =SUM(H59:L59) -> 0 | U59: =SUM(M59:S59) -> 0 | V59: =SUM(T59:U59) -> 0 | W59: =V59/G59 -> #DIV/0!

Sheet химтехнология
C2: Кафедра | D2: ='лечебное дело'!D2:R2 -> 0
D3: 18.03.01 Химическая технология
D4: (специальность/направление подготовки)
D6: ='лечебное дело'!D6:K6 -> 2025-2026 учебный год
A8: № п/п | B8: Ф.И.О. | C8: Должность | D8: Уч.степень, уч.звание | E8: Ставка | F8: Преподаваемые дисциплины | G8: Планируемая годовая нагрузка, всего часов | H8: осенний семестр | M8: весенний семестр | T8: итого за осенний семестр | U8: итого за весенний семестр | V8: итого за год | W8: %
H9: сентябрь | I9: октябрь | J9: ноябрь | K9: декабрь | L9: январь | M9: февраль | N9: март | O9: апрель | P9: май | Q9: июнь | R9: июль | S9: август
A10: 1 | T10: =SUM(H10:L10) -> 0 | U10: =SUM(M10:S10) -> 0 | V10: =SUM(T10:U10) -> 0 | W10: =V10/G10 -> #DIV/0!
A11: 2 | T11: =SUM(H11:L11) -> 0 | U11: =SUM(M11:S11) -> 0 | V11: =SUM(T11:U11) -> 0 | W11: =V11/G11 -> #DIV/0!
A12: 3 | T12: =SUM(H12:L12) -> 0 | U12: =SUM(M12:S12) -> 0 | V12: =SUM(T12:U12) -> 0 | W12: =V12/G12 -> #DIV/0!
A13: 4 | T13: =SUM(H13:L13) -> 0 | U13: =SUM(M13:S13) -> 0 | V13: =SUM(T13:U13) -> 0 | W13: =V13/G13 -> #DIV/0!
A14: 5 | T14: =SUM(H14:L14) -> 0 | U14: =SUM(M14:S14) -> 0 | V14: =SUM(T14:U14) -> 0 | W14: =V14/G14 -> #DIV/0!
A15: 6 | T15: =SUM(H15:L15) -> 0 | U15: =SUM(M15:S15) -> 0 | V15: =SUM(T15:U15) -> 0 | W15: =V15/G15 -> #DIV/0!
A16: 7 | T16: =SUM(H16:L16) -> 0 | U16: =SUM(M16:S16) -> 0 | V16: =SUM(T16:U16) -> 0 | W16: =V16/G16 -> #DIV/0!
A17: 8 | T17: =SUM(H17:L17) -> 0 | U17: =SUM(M17:S17) -> 0 | V17: =SUM(T17:U17) -> 0 | W17: =V17/G17 -> #DIV/0!
A18: 9 | T18: =SUM(H18:L18) -> 0 | U18: =SUM(M18:S18) -> 0 | V18: =SUM(T18:U18) -> 0 | W18: =V18/G18 -> #DIV/0!
A19: 10 | T19: =SUM(H19:L19) -> 0 | U19: =SUM(M19:S19) -> 0 | V19: =SUM(T19:U19) -> 0 | W19: =V19/G19 -> #DIV/0!
A20: 11 | T20: =SUM(H20:L20) -> 0 | U20: =SUM(M20:S20) -> 0 | V20: =SUM(T20:U20) -> 0 | W20: =V20/G20 -> #DIV/0!
A21: 12 | T21: =SUM(H21:L21) -> 0 | U21: =SUM(M21:S21) -> 0 | V21: =SUM(T21:U21) -> 0 | W21: =V21/G21 -> #DIV/0!
... A59: 50 | T59: =SUM(H59:L59) -> 0 | U59: =SUM(M59:S59) -> 0 | V59: =SUM(T59:U59) -> 0 | W59: =V59/G59 -> #DIV/0!

Sheet mmi_eng_lech
C2: Кафедра | D2: ='лечебное дело'!D2:R2 -> 0
D3: 31.05.01 Лечебное дело (Международный медицинский институт англ/яз)
D4: (специальность/направление подготовки)
D6: ='лечебное дело'!D6:K6 -> 2025-2026 учебный год
A8: № п/п | B8: Ф.И.О. | C8: Должность | D8: Уч.степень, уч.звание | E8: Ставка | F8: Преподаваемые дисциплины | G8: Планируемая годовая нагрузка, всего часов | H8: осенний семестр | M8: весенний семестр | T8: итого за осенний семестр | U8: итого за весенний семестр | V8: итого за год | W8: %
H9: сентябрь | I9: октябрь | J9: ноябрь | K9: декабрь | L9: январь | M9: февраль | N9: март | O9: апрель | P9: май | Q9: июнь | R9: июль | S9: август
A10: 1 | W10: =V10/G10 -> #DIV/0!
A11: 2 | W11: =V11/G11 -> #DIV/0!
A12: 3 | W12: =V12/G12 -> #DIV/0!
A13: 4 | W13: =V13/G13 -> #DIV/0!
A14: 5 | W14: =V14/G14 -> #DIV/0!
A15: 6 | W15: =V15/G15 -> #DIV/0!
A16: 7 | T16: =SUM(H16:L16) -> 0 | U16: =SUM(M16:S16) -> 0 | V16: =SUM(T16:U16) -> 0 | W16: =V16/G16 -> #DIV/0!
A17: 8 | T17: =SUM(H17:L17) -> 0 | U17: =SUM(M17:S17) -> 0 | V17: =SUM(T17:U17) -> 0 | W17: =V17/G17 -> #DIV/0!
A18: 9 | T18: =SUM(H18:L18) -> 0 | U18: =SUM(M18:S18) -> 0 | V18: =SUM(T18:U18) -> 0 | W18: =V18/G18 -> #DIV/0!
A19: 10 | T19: =SUM(H19:L19) -> 0 | U19: =SUM(M19:S19) -> 0 | V19: =SUM(T19:U19) -> 0 | W19: =V19/G19 -> #DIV/0!
A20: 11 | T20: =SUM(H20:L20) -> 0 | U20: =SUM(M20:S20) -> 0 | V20: =SUM(T20:U20) -> 0 | W20: =V20/G20 -> #DIV/0!
A21: 12 | T21: =SUM(H21:L21) -> 0 | U21: =SUM(M21:S21) -> 0 | V21: =SUM(T21:U21) -> 0 | W21: =V21/G21 -> #DIV/0!
A22: 13 | T22: =SUM(H22:L22) -> 0 | U22: =SUM(M22:S22) -> 0 | V22: =SUM(T22:U22) -> 0 | W22: =V22/G22 -> #DIV/0!
A23: 14 | T23: =SUM(H23:L23) -> 0 | U23: =SUM(M23:S23) -> 0 | V23: =SUM(T23:U23) -> 0 | W23: =V23/G23 -> #DIV/0!
A24: 15 | T24: =SUM(H24:L24) -> 0 | U24: =SUM(M24:S24) -> 0 | V24: =SUM(T24:U24) -> 0 | W24: =V24/G24 -> #DIV/0!
A25: 16 | T25: =SUM(H25:L25) -> 0 | U25: =SUM(M25:S25) -> 0 | V25: =SUM(T25:U25) -> 0 | W25: =V25/G25 -> #DIV/0!
A26: 17 | T26: =SUM(H26:L26) -> 0 | U26: =SUM(M26:S26) -> 0 | V26: =SUM(T26:U26) -> 0 | W26: =V26/G26 -> #DIV/0!
A27: 18 | T27: =SUM(H27:L27) -> 0 | U27: =SUM(M27:S27) -> 0 | V27: =SUM(T27:U27) -> 0 | W27: =V27/G27 -> #DIV/0!
... A59: 50 | T59: =SUM(H59:L59) -> 0 | U59: =SUM(M59:S59) -> 0 | V59: =SUM(T59:U59) -> 0 | W59: =V59/G59 -> #DIV/0!

Sheet mmi_rus_stom
C2: Кафедра | D2: ='лечебное дело'!D2:R2 -> 0
D3: 31.05.03 Стоматология (Международный медицинский институт)
D4: (специальность/направление подготовки)
D6: ='лечебное дело'!D6:K6 -> 2025-2026 учебный год
A8: № п/п | B8: Ф.И.О. | C8: Должность | D8: Уч.степень, уч.звание | E8: Ставка | F8: Преподаваемые дисциплины | G8: Планируемая годовая нагрузка, всего часов | H8: осенний семестр | M8: весенний семестр | T8: итого за осенний семестр | U8: итого за весенний семестр | V8: итого за год | W8: %
H9: сентябрь | I9: октябрь | J9: ноябрь | K9: декабрь | L9: январь | M9: февраль | N9: март | O9: апрель | P9: май | Q9: июнь | R9: июль | S9: август
A10: 1 | T10: =SUM(H10:L10) -> 0 | U10: =SUM(M10:S10) -> 0 | V10: =SUM(T10:U10) -> 0 | W10: =V10/G10 -> #DIV/0!
A11: 2 | T11: =SUM(H11:L11) -> 0 | U11: =SUM(M11:S11) -> 0 | V11: =SUM(T11:U11) -> 0 | W11: =V11/G11 -> #DIV/0!
A12: 3 | T12: =SUM(H12:L12) -> 0 | U12: =SUM(M12:S12) -> 0 | V12: =SUM(T12:U12) -> 0 | W12: =V12/G12 -> #DIV/0!
A13: 4 | T13: =SUM(H13:L13) -> 0 | U13: =SUM(M13:S13) -> 0 | V13: =SUM(T13:U13) -> 0 | W13: =V13/G13 -> #DIV/0!
A14: 5 | T14: =SUM(H14:L14) -> 0 | U14: =SUM(M14:S14) -> 0 | V14: =SUM(T14:U14) -> 0 | W14: =V14/G14 -> #DIV/0!
A15: 6 | T15: =SUM(H15:L15) -> 0 | U15: =SUM(M15:S15) -> 0 | V15: =SUM(T15:U15) -> 0 | W15: =V15/G15 -> #DIV/0!
A16: 7 | T16: =SUM(H16:L16) -> 0 | U16: =SUM(M16:S16) -> 0 | V16: =SUM(T16:U16) -> 0 | W16: =V16/G16 -> #DIV/0!
A17: 8 | T17: =SUM(H17:L17) -> 0 | U17: =SUM(M17:S17) -> 0 | V17: =SUM(T17:U17) -> 0 | W17: =V17/G17 -> #DIV/0!
A18: 9 | T18: =SUM(H18:L18) -> 0 | U18: =SUM(M18:S18) -> 0 | V18: =SUM(T18:U18) -> 0 | W18: =V18/G18 -> #DIV/0!
A19: 10 | T19: =SUM(H19:L19) -> 0 | U19: =SUM(M19:S19) -> 0 | V19: =SUM(T19:U19) -> 0 | W19: =V19/G19 -> #DIV/0!
A20: 11 | T20: =SUM(H20:L20) -> 0 | U20: =SUM(M20:S20) -> 0 | V20: =SUM(T20:U20) -> 0 | W20: =V20/G20 -> #DIV/0!
A21: 12 | T21: =SUM(H21:L21) -> 0 | U21: =SUM(M21:S21) -> 0 | V21: =SUM(T21:U21) -> 0 | W21: =V21/G21 -> #DIV/0!
... A59: 50 | T59: =SUM(H59:L59) -> 0 | U59: =SUM(M59:S59) -> 0 | V59: =SUM(T59:U59) -> 0 | W59: =V59/G59 -> #DIV/0!

Sheet резерв_1
C2: Кафедра | D2: ='лечебное дело'!D2:R2 -> 0
D4: (специальность/направление подготовки)
D6: ='лечебное дело'!D6:K6 -> 2025-2026 учебный год
A8: № п/п | B8: Ф.И.О. | C8: Должность | D8: Уч.степень, уч.звание | E8: Ставка | F8: Преподаваемые дисциплины | G8: Планируемая годовая нагрузка, всего часов | H8: осенний семестр | M8: весенний семестр | T8: итого за осенний семестр | U8: итого за весенний семестр | V8: итого за год | W8: %
H9: сентябрь | I9: октябрь | J9: ноябрь | K9: декабрь | L9: январь | M9: февраль | N9: март | O9: апрель | P9: май | Q9: июнь | R9: июль | S9: август
A10: 1 | U10: =SUM(M10:S10) -> 0 | V10: =SUM(T10:U10) -> 0 | W10: =V10/G10 -> #DIV/0!
A11: 2 | T11: =SUM(H11:L11) -> 0 | U11: =SUM(M11:S11) -> 0 | V11: =SUM(T11:U11) -> 0 | W11: =V11/G11 -> #DIV/0!
A12: 3 | T12: =SUM(H12:L12) -> 0 | U12: =SUM(M12:S12) -> 0 | V12: =SUM(T12:U12) -> 0 | W12: =V12/G12 -> #DIV/0!
A13: 4 | T13: =SUM(H13:L13) -> 0 | U13: =SUM(M13:S13) -> 0 | V13: =SUM(T13:U13) -> 0 | W13: =V13/G13 -> #DIV/0!
A14: 5 | T14: =SUM(H14:L14) -> 0 | U14: =SUM(M14:S14) -> 0 | V14: =SUM(T14:U14) -> 0 | W14: =V14/G14 -> #DIV/0!
A15: 6 | T15: =SUM(H15:L15) -> 0 | U15: =SUM(M15:S15) -> 0 | V15: =SUM(T15:U15) -> 0 | W15: =V15/G15 -> #DIV/0!
A16: 7 | T16: =SUM(H16:L16) -> 0 | U16: =SUM(M16:S16) -> 0 | V16: =SUM(T16:U16) -> 0 | W16: =V16/G16 -> #DIV/0!
A17: 8 | T17: =SUM(H17:L17) -> 0 | U17: =SUM(M17:S17) -> 0 | V17: =SUM(T17:U17) -> 0 | W17: =V17/G17 -> #DIV/0!
A18: 9 | T18: =SUM(H18:L18) -> 0 | U18: =SUM(M18:S18) -> 0 | V18: =SUM(T18:U18) -> 0 | W18: =V18/G18 -> #DIV/0!
A19: 10 | T19: =SUM(H19:L19) -> 0 | U19: =SUM(M19:S19) -> 0 | V19: =SUM(T19:U19) -> 0 | W19: =V19/G19 -> #DIV/0!
A20: 11 | T20: =SUM(H20:L20) -> 0 | U20: =SUM(M20:S20) -> 0 | V20: =SUM(T20:U20) -> 0 | W20: =V20/G20 -> #DIV/0!
A21: 12 | T21: =SUM(H21:L21) -> 0 | U21: =SUM(M21:S21) -> 0 | V21: =SUM(T21:U21) -> 0 | W21: =V21/G21 -> #DIV/0!
A22: 13 | T22: =SUM(H22:L22) -> 0 | U22: =SUM(M22:S22) -> 0 | V22: =SUM(T22:U22) -> 0 | W22: =V22/G22 -> #DIV/0!
... A59: 50 | T59: =SUM(H59:L59) -> 0 | U59: =SUM(M59:S59) -> 0 | V59: =SUM(T59:U59) -> 0 | W59: =V59/G59 -> #DIV/0!

Sheet резерв_2
C2: Кафедра | D2: ='лечебное дело'!D2:R2 -> 0
D4: (специальность/направление подготовки)
D6: ='лечебное дело'!D6:K6 -> 2025-2026 учебный год
A8: № п/п | B8: Ф.И.О. | C8: Должность | D8: Уч.степень, уч.звание | E8: Ставка | F8: Преподаваемые дисциплины | G8: Планируемая годовая нагрузка, всего часов | H8: осенний семестр | M8: весенний семестр | T8: итого за осенний семестр | U8: итого за весенний семестр | V8: итого за год | W8: %
H9: сентябрь | I9: октябрь | J9: ноябрь | K9: декабрь | L9: январь | M9: февраль | N9: март | O9: апрель | P9: май | Q9: июнь | R9: июль | S9: август
A10: 1 | U10: =SUM(M10:S10) -> 0 | V10: =SUM(T10:U10) -> 0 | W10: =V10/G10 -> #DIV/0!
A11: 2 | T11: =SUM(H11:L11) -> 0 | U11: =SUM(M11:S11) -> 0 | V11: =SUM(T11:U11) -> 0 | W11: =V11/G11 -> #DIV/0!
A12: 3 | T12: =SUM(H12:L12) -> 0 | U12: =SUM(M12:S12) -> 0 | V12: =SUM(T12:U12) -> 0 | W12: =V12/G12 -> #DIV/0!
A13: 4 | T13: =SUM(H13:L13) -> 0 | U13: =SUM(M13:S13) -> 0 | V13: =SUM(T13:U13) -> 0 | W13: =V13/G13 -> #DIV/0!
A14: 5 | T14: =SUM(H14:L14) -> 0 | U14: =SUM(M14:S14) -> 0 | V14: =SUM(T14:U14) -> 0 | W14: =V14/G14 -> #DIV/0!
A15: 6 | T15: =SUM(H15:L15) -> 0 | U15: =SUM(M15:S15) -> 0 | V15: =SUM(T15:U15) -> 0 | W15: =V15/G15 -> #DIV/0!
A16: 7 | T16: =SUM(H16:L16) -> 0 | U16: =SUM(M16:S16) -> 0 | V16: =SUM(T16:U16) -> 0 | W16: =V16/G16 -> #DIV/0!
A17: 8 | T17: =SUM(H17:L17) -> 0 | U17: =SUM(M17:S17) -> 0 | V17: =SUM(T17:U17) -> 0 | W17: =V17/G17 -> #DIV/0!
A18: 9 | T18: =SUM(H18:L18) -> 0 | U18: =SUM(M18:S18) -> 0 | V18: =SUM(T18:U18) -> 0 | W18: =V18/G18 -> #DIV/0!
A19: 10 | T19: =SUM(H19:L19) -> 0 | U19: =SUM(M19:S19) -> 0 | V19: =SUM(T19:U19) -> 0 | W19: =V19/G19 -> #DIV/0!
A20: 11 | T20: =SUM(H20:L20) -> 0 | U20: =SUM(M20:S20) -> 0 | V20: =SUM(T20:U20) -> 0 | W20: =V20/G20 -> #DIV/0!
A21: 12 | T21: =SUM(H21:L21) -> 0 | U21: =SUM(M21:S21) -> 0 | V21: =SUM(T21:U21) -> 0 | W21: =V21/G21 -> #DIV/0!
A22: 13 | T22: =SUM(H22:L22) -> 0 | U22: =SUM(M22:S22) -> 0 | V22: =SUM(T22:U22) -> 0 | W22: =V22/G22 -> #DIV/0!
... A59: 50 | T59: =SUM(H59:L59) -> 0 | U59: =SUM(M59:S59) -> 0 | V59: =SUM(T59:U59) -> 0 | W59: =V59/G59 -> #DIV/0!

Sheet раскрыв.списки
B1: должность
B2: зав.кафедрой
B3: профессор
B4: доцент
B5: доцент внеш.сов.
B6: ст.преподаватель
B7: преподаватель
B8: преподаватель внутр.сов.
B9: преподаватель внеш.сов.
B10: ассистент
B11: ассистент внутр.сов.
B12: ассистент внеш.сов
... B43: без степени
